BEGIN:VCALENDAR
VERSION:2.0
PRODID:-//wp-events-plugin.com//7.2.3.1//EN
BEGIN:VEVENT
UID:7@tampablackheritage.org
DTSTART:20260128T113000Z
DTEND:20260128T130000Z
DTSTAMP:20260111T210214Z
URL:https://tampablackheritage.org/events/leadership-luncheon/
SUMMARY:2026 Leadership Luncheon
DESCRIPTION:Featuring Keynote Speaker\, Tiffany Greene
ATTACH;FMTTYPE=image/jpeg:https://tampablackheritage.org/wp-content/upload
 s/2018/12/LeadershipLuncheon2026-Square-sm.jpg
CATEGORIES:Festival Events,Signature Event
LOCATION:Skills Center\, 5107 N. 22nd Street\, Tampa\, FL\, 33610\, United 
 States
X-APPLE-STRUCTURED-LOCATION;VALUE=URI;X-ADDRESS=5107 N. 22nd Street\, Tampa
 \, FL\, 33610\, United States;X-APPLE-RADIUS=100;X-TITLE=Skills Center:geo
 :0,0
END:VEVENT
END:VCALENDAR